BEGIN:VCALENDAR
VERSION:2.0
PRODID:-//WORLD MASTERS 2022 - ECPv6.15.20//NONSGML v1.0//EN
CALSCALE:GREGORIAN
METHOD:PUBLISH
X-ORIGINAL-URL:https://event.squashjeudepaume.com
X-WR-CALDESC:Évènements pour WORLD MASTERS 2022
REFRESH-INTERVAL;VALUE=DURATION:PT1H
X-Robots-Tag:noindex
X-PUBLISHED-TTL:PT1H
BEGIN:VTIMEZONE
TZID:UTC
BEGIN:STANDARD
TZOFFSETFROM:+0000
TZOFFSETTO:+0000
TZNAME:UTC
DTSTART:20210101T000000
END:STANDARD
END:VTIMEZONE
BEGIN:VTIMEZONE
TZID:Europe/Paris
BEGIN:DAYLIGHT
TZOFFSETFROM:+0100
TZOFFSETTO:+0200
TZNAME:CEST
DTSTART:20210328T010000
END:DAYLIGHT
BEGIN:STANDARD
TZOFFSETFROM:+0200
TZOFFSETTO:+0100
TZNAME:CET
DTSTART:20211031T010000
END:STANDARD
BEGIN:DAYLIGHT
TZOFFSETFROM:+0100
TZOFFSETTO:+0200
TZNAME:CEST
DTSTART:20220327T010000
END:DAYLIGHT
BEGIN:STANDARD
TZOFFSETFROM:+0200
TZOFFSETTO:+0100
TZNAME:CET
DTSTART:20221030T010000
END:STANDARD
BEGIN:DAYLIGHT
TZOFFSETFROM:+0100
TZOFFSETTO:+0200
TZNAME:CEST
DTSTART:20230326T010000
END:DAYLIGHT
BEGIN:STANDARD
TZOFFSETFROM:+0200
TZOFFSETTO:+0100
TZNAME:CET
DTSTART:20231029T010000
END:STANDARD
END:VTIMEZONE
BEGIN:VTIMEZONE
TZID:Europe/Paris
BEGIN:DAYLIGHT
TZOFFSETFROM:+0100
TZOFFSETTO:+0200
TZNAME:CEST
DTSTART:20210328T010000
END:DAYLIGHT
BEGIN:STANDARD
TZOFFSETFROM:+0200
TZOFFSETTO:+0100
TZNAME:CET
DTSTART:20211031T010000
END:STANDARD
BEGIN:DAYLIGHT
TZOFFSETFROM:+0100
TZOFFSETTO:+0200
TZNAME:CEST
DTSTART:20220327T010000
END:DAYLIGHT
BEGIN:STANDARD
TZOFFSETFROM:+0200
TZOFFSETTO:+0100
TZNAME:CET
DTSTART:20221030T010000
END:STANDARD
BEGIN:DAYLIGHT
TZOFFSETFROM:+0100
TZOFFSETTO:+0200
TZNAME:CEST
DTSTART:20230326T010000
END:DAYLIGHT
BEGIN:STANDARD
TZOFFSETFROM:+0200
TZOFFSETTO:+0100
TZNAME:CET
DTSTART:20231029T010000
END:STANDARD
END:VTIMEZONE
BEGIN:VEVENT
DTSTART;VALUE=DATE:20220514
DTEND;VALUE=DATE:20220515
DTSTAMP:20260424T160541
CREATED:20220122T204805Z
LAST-MODIFIED:20220209T140745Z
UID:54-1652486400-1652572799@event.squashjeudepaume.com
SUMMARY:Practice Day (Bordeaux)
DESCRIPTION:
URL:https://event.squashjeudepaume.com/event/practice-day-bordeaux/
LOCATION:Domaine de Rocquevielle\, 107 Avenue Marcel Dassault\, Mérignac\, 33700\, France
CATEGORIES:Bordeaux
ATTACH;FMTTYPE=image/jpeg:https://event.squashjeudepaume.com/wp-content/uploads/2022/02/Entrée-large-court-1024x683-1.jpg
END:VEVENT
BEGIN:VEVENT
DTSTART;VALUE=DATE:20220514
DTEND;VALUE=DATE:20220515
DTSTAMP:20260424T160541
CREATED:20220122T210118Z
LAST-MODIFIED:20220212T185659Z
UID:86-1652486400-1652572799@event.squashjeudepaume.com
SUMMARY:Practice Days (Fontainebleau)
DESCRIPTION:
URL:https://event.squashjeudepaume.com/event/practice-days-fontainebleau/
LOCATION:Château de Fontainebleau\, Palais national\, Fontainebleau\, 77300\, France
CATEGORIES:Fontainebleau
END:VEVENT
BEGIN:VEVENT
DTSTART;VALUE=DATE:20220515
DTEND;VALUE=DATE:20220517
DTSTAMP:20260424T160541
CREATED:20220122T203229Z
LAST-MODIFIED:20220210T142406Z
UID:32-1652572800-1652745599@event.squashjeudepaume.com
SUMMARY:50: Cockram Trophy (Paris)
DESCRIPTION:
URL:https://event.squashjeudepaume.com/event/cochram-trophy-paris/
LOCATION:Société Sportive du Jeu de Paume et de Racquets\, 74 Ter Rue Lauriston\, Paris\, 75116\, France
CATEGORIES:Paris
END:VEVENT
BEGIN:VEVENT
DTSTART;VALUE=DATE:20220515
DTEND;VALUE=DATE:20220517
DTSTAMP:20260424T160541
CREATED:20220122T204842Z
LAST-MODIFIED:20220210T142546Z
UID:56-1652572800-1652745599@event.squashjeudepaume.com
SUMMARY:60: Botswick Cup (Bordeaux)
DESCRIPTION:
URL:https://event.squashjeudepaume.com/event/bostwick-cup-bordeaux/
LOCATION:Domaine de Rocquevielle\, 107 Avenue Marcel Dassault\, Mérignac\, 33700\, France
CATEGORIES:Bordeaux
END:VEVENT
BEGIN:VEVENT
DTSTART;VALUE=DATE:20220515
DTEND;VALUE=DATE:20220517
DTSTAMP:20260424T160541
CREATED:20220122T210156Z
LAST-MODIFIED:20220212T185713Z
UID:88-1652572800-1652745599@event.squashjeudepaume.com
SUMMARY:70: Danby Trophy (Fontainebleau)
DESCRIPTION:
URL:https://event.squashjeudepaume.com/event/danby-trophy-fontainebleau/
LOCATION:Château de Fontainebleau\, Palais national\, Fontainebleau\, 77300\, France
CATEGORIES:Fontainebleau
END:VEVENT
BEGIN:VEVENT
DTSTART;VALUE=DATE:20220517
DTEND;VALUE=DATE:20220523
DTSTAMP:20260424T160541
CREATED:20220122T203303Z
LAST-MODIFIED:20220208T142930Z
UID:34-1652745600-1653263999@event.squashjeudepaume.com
SUMMARY:Singles 50’s (Paris)
DESCRIPTION:Ajouter au panier
URL:https://event.squashjeudepaume.com/event/singles-50s-paris/
LOCATION:Société Sportive du Jeu de Paume et de Racquets\, 74 Ter Rue Lauriston\, Paris\, 75116\, France
CATEGORIES:Paris
END:VEVENT
BEGIN:VEVENT
DTSTART;VALUE=DATE:20220517
DTEND;VALUE=DATE:20220523
DTSTAMP:20260424T160541
CREATED:20220122T204944Z
LAST-MODIFIED:20220208T142906Z
UID:59-1652745600-1653263999@event.squashjeudepaume.com
SUMMARY:Singles 60’s (Bordeaux)
DESCRIPTION:Ajouter au panier
URL:https://event.squashjeudepaume.com/event/singles-60s-bordeaux/
LOCATION:Domaine de Rocquevielle\, 107 Avenue Marcel Dassault\, Mérignac\, 33700\, France
CATEGORIES:Bordeaux
END:VEVENT
BEGIN:VEVENT
DTSTART;VALUE=DATE:20220517
DTEND;VALUE=DATE:20220521
DTSTAMP:20260424T160541
CREATED:20220122T210217Z
LAST-MODIFIED:20220217T162226Z
UID:90-1652745600-1653091199@event.squashjeudepaume.com
SUMMARY:Singles 70’s (Fontainebleau)
DESCRIPTION:Ajouter au panier
URL:https://event.squashjeudepaume.com/event/singles-70s-fontainebleau/
LOCATION:Château de Fontainebleau\, Palais national\, Fontainebleau\, 77300\, France
CATEGORIES:Fontainebleau
END:VEVENT
BEGIN:VEVENT
DTSTART;VALUE=DATE:20220518
DTEND;VALUE=DATE:20220523
DTSTAMP:20260424T160541
CREATED:20220122T203422Z
LAST-MODIFIED:20220208T142930Z
UID:38-1652832000-1653263999@event.squashjeudepaume.com
SUMMARY:Doubles 50’s (Paris)
DESCRIPTION:Ajouter au panier
URL:https://event.squashjeudepaume.com/event/doubles-50s-paris/
LOCATION:Société Sportive du Jeu de Paume et de Racquets\, 74 Ter Rue Lauriston\, Paris\, 75116\, France
CATEGORIES:Paris
END:VEVENT
BEGIN:VEVENT
DTSTART;VALUE=DATE:20220518
DTEND;VALUE=DATE:20220523
DTSTAMP:20260424T160541
CREATED:20220122T205026Z
LAST-MODIFIED:20220208T142906Z
UID:63-1652832000-1653263999@event.squashjeudepaume.com
SUMMARY:Doubles 60’s (Bordeaux)
DESCRIPTION:Ajouter au panier
URL:https://event.squashjeudepaume.com/event/doubles-60s-bordeaux/
LOCATION:Domaine de Rocquevielle\, 107 Avenue Marcel Dassault\, Mérignac\, 33700\, France
CATEGORIES:Bordeaux
END:VEVENT
BEGIN:VEVENT
DTSTART;VALUE=DATE:20220518
DTEND;VALUE=DATE:20220521
DTSTAMP:20260424T160541
CREATED:20220122T210252Z
LAST-MODIFIED:20220217T162237Z
UID:94-1652832000-1653091199@event.squashjeudepaume.com
SUMMARY:Doubles 70’s (Fontainebleau)
DESCRIPTION:Ajouter au panier
URL:https://event.squashjeudepaume.com/event/doubles-70s-fontainebleau/
LOCATION:Château de Fontainebleau\, Palais national\, Fontainebleau\, 77300\, France
CATEGORIES:Fontainebleau
END:VEVENT
BEGIN:VEVENT
DTSTART;VALUE=DATE:20220521
DTEND;VALUE=DATE:20220528
DTSTAMP:20260424T160541
CREATED:20220122T203341Z
LAST-MODIFIED:20220208T142916Z
UID:36-1653091200-1653695999@event.squashjeudepaume.com
SUMMARY:Singles 55’s (Paris)
DESCRIPTION:Ajouter au panier
URL:https://event.squashjeudepaume.com/event/singles-55s-paris/
LOCATION:Société Sportive du Jeu de Paume et de Racquets\, 74 Ter Rue Lauriston\, Paris\, 75116\, France
CATEGORIES:Paris
END:VEVENT
BEGIN:VEVENT
DTSTART;VALUE=DATE:20220521
DTEND;VALUE=DATE:20220528
DTSTAMP:20260424T160541
CREATED:20220122T205006Z
LAST-MODIFIED:20220208T142854Z
UID:61-1653091200-1653695999@event.squashjeudepaume.com
SUMMARY:Singles 65’s (Bordeaux)
DESCRIPTION:Ajouter au panier
URL:https://event.squashjeudepaume.com/event/singles-65s-bordeaux/
LOCATION:Domaine de Rocquevielle\, 107 Avenue Marcel Dassault\, Mérignac\, 33700\, France
CATEGORIES:Bordeaux
END:VEVENT
BEGIN:VEVENT
DTSTART;VALUE=DATE:20220521
DTEND;VALUE=DATE:20220523
DTSTAMP:20260424T160541
CREATED:20220214T142030Z
LAST-MODIFIED:20220217T162248Z
UID:500-1653091200-1653263999@event.squashjeudepaume.com
SUMMARY:Fontainebleau fermé
DESCRIPTION:
URL:https://event.squashjeudepaume.com/event/fontainebleau-ferme/
LOCATION:Château de Fontainebleau\, Palais national\, Fontainebleau\, 77300\, France
CATEGORIES:Fermeture
END:VEVENT
BEGIN:VEVENT
DTSTART;VALUE=DATE:20220521
DTEND;VALUE=DATE:20220523
DTSTAMP:20260424T160541
CREATED:20220216T215409Z
LAST-MODIFIED:20220217T162241Z
UID:553-1653091200-1653263999@event.squashjeudepaume.com
SUMMARY:Fontainebleau fermé
DESCRIPTION:
URL:https://event.squashjeudepaume.com/event/fontainebleau-ferme-2/
LOCATION:Château de Fontainebleau\, Palais national\, Fontainebleau\, 77300\, France
CATEGORIES:Fermeture
END:VEVENT
BEGIN:VEVENT
DTSTART;VALUE=DATE:20220522
DTEND;VALUE=DATE:20220523
DTSTAMP:20260424T160541
CREATED:20220122T201648Z
LAST-MODIFIED:20220309T213550Z
UID:26-1653177600-1653263999@event.squashjeudepaume.com
SUMMARY:Practice Day (Paris)
DESCRIPTION:
URL:https://event.squashjeudepaume.com/event/practice-day-paris/
LOCATION:Société Sportive du Jeu de Paume et de Racquets\, 74 Ter Rue Lauriston\, Paris\, 75116\, France
CATEGORIES:Paris
END:VEVENT
BEGIN:VEVENT
DTSTART;VALUE=DATE:20220523
DTEND;VALUE=DATE:20220528
DTSTAMP:20260424T160541
CREATED:20220122T203448Z
LAST-MODIFIED:20220208T142916Z
UID:40-1653264000-1653695999@event.squashjeudepaume.com
SUMMARY:Doubles 55’s (Paris)
DESCRIPTION:Ajouter au panier
URL:https://event.squashjeudepaume.com/event/doubles-55s-paris/
LOCATION:Société Sportive du Jeu de Paume et de Racquets\, 74 Ter Rue Lauriston\, Paris\, 75116\, France
CATEGORIES:Paris
END:VEVENT
BEGIN:VEVENT
DTSTART;VALUE=DATE:20220523
DTEND;VALUE=DATE:20220526
DTSTAMP:20260424T160541
CREATED:20220122T203603Z
LAST-MODIFIED:20220309T213618Z
UID:46-1653264000-1653523199@event.squashjeudepaume.com
SUMMARY:80: Muñoz Trophy (Paris)
DESCRIPTION:
URL:https://event.squashjeudepaume.com/event/munoz-trophy-paris/
LOCATION:Société Sportive du Jeu de Paume et de Racquets\, 74 Ter Rue Lauriston\, Paris\, 75116\, France
CATEGORIES:Paris
END:VEVENT
BEGIN:VEVENT
DTSTART;VALUE=DATE:20220523
DTEND;VALUE=DATE:20220528
DTSTAMP:20260424T160541
CREATED:20220122T205053Z
LAST-MODIFIED:20220208T142854Z
UID:65-1653264000-1653695999@event.squashjeudepaume.com
SUMMARY:Doubles 65’s (Bordeaux)
DESCRIPTION:Ajouter au panier
URL:https://event.squashjeudepaume.com/event/doubles-65s-bordeaux/
LOCATION:Domaine de Rocquevielle\, 107 Avenue Marcel Dassault\, Mérignac\, 33700\, France
CATEGORIES:Bordeaux
END:VEVENT
BEGIN:VEVENT
DTSTART;VALUE=DATE:20220523
DTEND;VALUE=DATE:20220529
DTSTAMP:20260424T160541
CREATED:20220122T210232Z
LAST-MODIFIED:20220212T185742Z
UID:92-1653264000-1653782399@event.squashjeudepaume.com
SUMMARY:Singles 75’s (Fontainebleau)
DESCRIPTION:Ajouter au panier
URL:https://event.squashjeudepaume.com/event/singles-75s-fontainebleau/
LOCATION:Château de Fontainebleau\, Palais national\, Fontainebleau\, 77300\, France
CATEGORIES:Fontainebleau
END:VEVENT
BEGIN:VEVENT
DTSTART;VALUE=DATE:20220523
DTEND;VALUE=DATE:20220525
DTSTAMP:20260424T160541
CREATED:20220216T171545Z
LAST-MODIFIED:20220216T171545Z
UID:525-1653264000-1653436799@event.squashjeudepaume.com
SUMMARY:Doubles 70’s (Fontainebleau)
DESCRIPTION:Ajouter au panier
URL:https://event.squashjeudepaume.com/event/doubles-70s-fontainebleau-2/
CATEGORIES:Fontainebleau
END:VEVENT
BEGIN:VEVENT
DTSTART;VALUE=DATE:20220523
DTEND;VALUE=DATE:20220524
DTSTAMP:20260424T160541
CREATED:20220216T215325Z
LAST-MODIFIED:20220216T215325Z
UID:551-1653264000-1653350399@event.squashjeudepaume.com
SUMMARY:Singles 70’s (Fontainebleau)
DESCRIPTION:Ajouter au panier
URL:https://event.squashjeudepaume.com/event/singles-70s-fontainebleau-2/
LOCATION:Château de Fontainebleau\, Palais national\, Fontainebleau\, 77300\, France
CATEGORIES:Fontainebleau
END:VEVENT
BEGIN:VEVENT
DTSTART;VALUE=DATE:20220524
DTEND;VALUE=DATE:20220529
DTSTAMP:20260424T160541
CREATED:20220122T210313Z
LAST-MODIFIED:20220212T185804Z
UID:96-1653350400-1653782399@event.squashjeudepaume.com
SUMMARY:Doubles 75’s (Fontainebleau)
DESCRIPTION:Ajouter au panier
URL:https://event.squashjeudepaume.com/event/doubles-75s-fontainebleau/
LOCATION:Château de Fontainebleau\, Palais national\, Fontainebleau\, 77300\, France
CATEGORIES:Fontainebleau
END:VEVENT
BEGIN:VEVENT
DTSTART;VALUE=DATE:20220526
DTEND;VALUE=DATE:20220530
DTSTAMP:20260424T160541
CREATED:20220122T203515Z
LAST-MODIFIED:20220309T213657Z
UID:42-1653523200-1653868799@event.squashjeudepaume.com
SUMMARY:Singles 80´s (Paris)
DESCRIPTION:Ajouter au panier
URL:https://event.squashjeudepaume.com/event/singles-80s-paris/
LOCATION:Société Sportive du Jeu de Paume et de Racquets\, 74 Ter Rue Lauriston\, Paris\, 75116\, France
CATEGORIES:Paris
END:VEVENT
BEGIN:VEVENT
DTSTART;VALUE=DATE:20220526
DTEND;VALUE=DATE:20220530
DTSTAMP:20260424T160541
CREATED:20220122T203538Z
LAST-MODIFIED:20220309T213717Z
UID:44-1653523200-1653868799@event.squashjeudepaume.com
SUMMARY:Doubles 80´s (Paris)
DESCRIPTION:Ajouter au panier
URL:https://event.squashjeudepaume.com/event/doubles-80s-paris/
LOCATION:Société Sportive du Jeu de Paume et de Racquets\, 74 Ter Rue Lauriston\, Paris\, 75116\, France
CATEGORIES:Paris
END:VEVENT
BEGIN:VEVENT
DTSTART;VALUE=DATE:20220529
DTEND;VALUE=DATE:20220530
DTSTAMP:20260424T160541
CREATED:20220122T203643Z
LAST-MODIFIED:20220217T010839Z
UID:48-1653782400-1653868799@event.squashjeudepaume.com
SUMMARY:Black Tie Awards Dinner (Paris)
DESCRIPTION:Les trophées seront remis lors d’un dîner-croisière en tenue de soirée sur la Seine au cœur de la Ville Lumière le dimanche 29 mai. L’embarquement s’effectuera en face de la Tour Eiffel à quelques centaines de mètres du Club \nA cruise on the Seine river in the heart of the City of Lights will host the Black Tie Awards Dinner on Sunday\, May\, 29. The boarding will take place in front of the Eiffel Tower at walking distance from the Club. \n \nAjouter au panier\n 
URL:https://event.squashjeudepaume.com/event/black-tie-dinner-paris/
LOCATION:Société Sportive du Jeu de Paume et de Racquets\, 74 Ter Rue Lauriston\, Paris\, 75116\, France
CATEGORIES:Paris
END:VEVENT
END:VCALENDAR